BEGIN:VCALENDAR
VERSION:2.0
PRODID:-//Letterkenny Educate Together - ECPv4.1.4//NONSGML v1.0//EN
CALSCALE:GREGORIAN
METHOD:PUBLISH
X-WR-CALNAME:Letterkenny Educate Together
X-ORIGINAL-URL:http://www.letterkennyetns.ie
X-WR-CALDESC:Events for Letterkenny Educate Together
BEGIN:VEVENT
DTSTART;TZID=Europe/London:20190618T180000
DTEND;TZID=Europe/London:20190618T190000
DTSTAMP:20260425T165801
CREATED:20190513T212658
LAST-MODIFIED:20190513T212658
UID:3817-1560880800-1560884400@www.letterkennyetns.ie
SUMMARY:6th class School Leavers Ceremony
DESCRIPTION:6th class students will be invited to attend a ceremony whereby we acknowledge their achievements and accomplishment since they started in our school. 6pm-7pm
URL:http://www.letterkennyetns.ie/event/6th-class-school-leavers-ceremony/
END:VEVENT
END:VCALENDAR