BEGIN:VCALENDAR
VERSION:2.0
PRODID:-//Letterkenny Educate Together - ECPv4.1.4//NONSGML v1.0//EN
CALSCALE:GREGORIAN
METHOD:PUBLISH
X-WR-CALNAME:Letterkenny Educate Together
X-ORIGINAL-URL:http://www.letterkennyetns.ie
X-WR-CALDESC:Events for Letterkenny Educate Together
BEGIN:VEVENT
DTSTART;TZID=Europe/London:20221221T090000
DTEND;TZID=Europe/London:20221221T120000
DTSTAMP:20260423T144012
CREATED:20220623T130908
LAST-MODIFIED:20220623T130908
UID:5277-1671613200-1671624000@www.letterkennyetns.ie
SUMMARY:Half day today
DESCRIPTION:School closes today for the winter holidays. Half day.
URL:http://www.letterkennyetns.ie/event/half-day-today-4/
END:VEVENT
END:VCALENDAR