BEGIN:VCALENDAR
VERSION:2.0
PRODID:-//Letterkenny Educate Together - ECPv4.1.4//NONSGML v1.0//EN
CALSCALE:GREGORIAN
METHOD:PUBLISH
X-WR-CALNAME:Letterkenny Educate Together
X-ORIGINAL-URL:http://www.letterkennyetns.ie
X-WR-CALDESC:Events for Letterkenny Educate Together
BEGIN:VEVENT
DTSTART;TZID=Europe/London:20190603T080000
DTEND;TZID=Europe/London:20190603T170000
DTSTAMP:20260425T211938
CREATED:20180902T213658
LAST-MODIFIED:20180902T213658
UID:3277-1559548800-1559581200@www.letterkennyetns.ie
SUMMARY:June Bank Holiday
DESCRIPTION:School is closed today
URL:http://www.letterkennyetns.ie/event/june-bank-holiday-3/
END:VEVENT
END:VCALENDAR