BEGIN:VCALENDAR
VERSION:2.0
PRODID:-//Letterkenny Educate Together - ECPv4.1.4//NONSGML v1.0//EN
CALSCALE:GREGORIAN
METHOD:PUBLISH
X-WR-CALNAME:Letterkenny Educate Together
X-ORIGINAL-URL:http://www.letterkennyetns.ie
X-WR-CALDESC:Events for Letterkenny Educate Together
BEGIN:VEVENT
DTSTART;TZID=Europe/London:20190627T090000
DTEND;TZID=Europe/London:20190627T134000
DTSTAMP:20260425T122928
CREATED:20190627T125632
LAST-MODIFIED:20190627T125632
UID:3913-1561626000-1561642800@www.letterkennyetns.ie
SUMMARY:Junior Infant full day
DESCRIPTION:Junior Infants will start their full day today. This means they will start at 9 (as usual) but finish as 1.40pm
URL:http://www.letterkennyetns.ie/event/junior-infant-full-day/
END:VEVENT
END:VCALENDAR