BEGIN:VCALENDAR
VERSION:2.0
PRODID:-//Letterkenny Educate Together - ECPv4.1.4//NONSGML v1.0//EN
CALSCALE:GREGORIAN
METHOD:PUBLISH
X-WR-CALNAME:Letterkenny Educate Together
X-ORIGINAL-URL:http://www.letterkennyetns.ie
X-WR-CALDESC:Events for Letterkenny Educate Together
BEGIN:VEVENT
DTSTART;TZID=Europe/London:20190506T080000
DTEND;TZID=Europe/London:20190506T170000
DTSTAMP:20260426T042407
CREATED:20180902T213547
LAST-MODIFIED:20180902T213547
UID:3276-1557129600-1557162000@www.letterkennyetns.ie
SUMMARY:May Bank Holiday
DESCRIPTION:School is closed today
URL:http://www.letterkennyetns.ie/event/may-bank-holiday-2/
END:VEVENT
END:VCALENDAR