BEGIN:VCALENDAR
VERSION:2.0
PRODID:-//Letterkenny Educate Together - ECPv4.1.4//NONSGML v1.0//EN
CALSCALE:GREGORIAN
METHOD:PUBLISH
X-WR-CALNAME:Letterkenny Educate Together
X-ORIGINAL-URL:http://www.letterkennyetns.ie
X-WR-CALDESC:Events for Letterkenny Educate Together
BEGIN:VEVENT
DTSTART;TZID=Europe/London:20190529T190000
DTEND;TZID=Europe/London:20190529T200000
DTSTAMP:20260426T025428
CREATED:20190513T211815
LAST-MODIFIED:20190514T122403
UID:3814-1559156400-1559160000@www.letterkennyetns.ie
SUMMARY:Parents meeting for Sept 2019 Junior Infant cohort
DESCRIPTION:There will be a meeting for all parents who have enrolled their child to start in Junior Infants September 2019. Meeting will take place in our school from 7pm - 8pm. We ask that children do not attend this meeting if possible.
URL:http://www.letterkennyetns.ie/event/parents-meeting-sept-2019-junior-infant-cohort/
END:VEVENT
END:VCALENDAR