BEGIN:VCALENDAR
VERSION:2.0
PRODID:-//Letterkenny Educate Together - ECPv4.1.4//NONSGML v1.0//EN
CALSCALE:GREGORIAN
METHOD:PUBLISH
X-WR-CALNAME:Letterkenny Educate Together
X-ORIGINAL-URL:http://www.letterkennyetns.ie
X-WR-CALDESC:Events for Letterkenny Educate Together
BEGIN:VEVENT
DTSTART;TZID=Europe/London:20191028T080000
DTEND;TZID=Europe/London:20191101T170000
DTSTAMP:20260425T184929
CREATED:20190627T110353
LAST-MODIFIED:20190627T110353
UID:3909-1572249600-1572627600@www.letterkennyetns.ie
SUMMARY:October Mid Term Break
DESCRIPTION:All schools will close from Monday 28th October 2019 to Friday 1st November 2019 inclusive
URL:http://www.letterkennyetns.ie/event/october-mid-term-break-2/
END:VEVENT
END:VCALENDAR