BEGIN:VCALENDAR
VERSION:2.0
PRODID:-//Letterkenny Educate Together - ECPv4.1.4//NONSGML v1.0//EN
CALSCALE:GREGORIAN
METHOD:PUBLISH
X-WR-CALNAME:Letterkenny Educate Together
X-ORIGINAL-URL:http://www.letterkennyetns.ie
X-WR-CALDESC:Events for Letterkenny Educate Together
BEGIN:VEVENT
DTSTART;TZID=Europe/London:20191220T080000
DTEND;TZID=Europe/London:20200105T170000
DTSTAMP:20260425T161948
CREATED:20190627T110618
LAST-MODIFIED:20190627T110618
UID:3910-1576828800-1578243600@www.letterkennyetns.ie
SUMMARY:Winter break
DESCRIPTION:All schools will close on Friday 20th December 2019 which will be the final day of the school term.\nAll schools will re-open on Monday 6th January 2020\n\nThere will be a half day on Friday 20th December
URL:http://www.letterkennyetns.ie/event/winter-break-3/
END:VEVENT
END:VCALENDAR