BEGIN:VCALENDAR
VERSION:2.0
PRODID:-//Letterkenny Educate Together - ECPv4.1.4//NONSGML v1.0//EN
CALSCALE:GREGORIAN
METHOD:PUBLISH
X-WR-CALNAME:Letterkenny Educate Together
X-ORIGINAL-URL:http://www.letterkennyetns.ie
X-WR-CALDESC:Events for Letterkenny Educate Together
BEGIN:VEVENT
DTSTART;TZID=Europe/London:20200220T080000
DTEND;TZID=Europe/London:20200221T170000
DTSTAMP:20260425T015046
CREATED:20190627T110751
LAST-MODIFIED:20190627T110751
UID:3911-1582185600-1582304400@www.letterkennyetns.ie
SUMMARY:Mid Term Break
DESCRIPTION:School is closed today and tomorrow for Mid Term break
URL:http://www.letterkennyetns.ie/event/mid-term-break-4/
END:VEVENT
END:VCALENDAR