BEGIN:VCALENDAR
VERSION:2.0
PRODID:-//Letterkenny Educate Together - ECPv4.1.4//NONSGML v1.0//EN
CALSCALE:GREGORIAN
METHOD:PUBLISH
X-WR-CALNAME:Letterkenny Educate Together
X-ORIGINAL-URL:http://www.letterkennyetns.ie
X-WR-CALDESC:Events for Letterkenny Educate Together
BEGIN:VEVENT
DTSTART;TZID=Europe/London:20200312T080000
DTEND;TZID=Europe/London:20200329T170000
DTSTAMP:20260423T172926
CREATED:20200312T150147
LAST-MODIFIED:20200312T150706
UID:4209-1584000000-1585501200@www.letterkennyetns.ie
SUMMARY:School Closure
DESCRIPTION:School will be closed until March 29th\n\nhttps://www.rte.ie/news/coronavirus/2020/0312/1121820-coronavirus/
URL:http://www.letterkennyetns.ie/event/school-closure/
END:VEVENT
BEGIN:VEVENT
DTSTART;TZID=Europe/London:20200316T080000
DTEND;TZID=Europe/London:20200316T170000
DTSTAMP:20260423T172926
CREATED:20190627T104419
LAST-MODIFIED:20190627T104419
UID:3904-1584345600-1584378000@www.letterkennyetns.ie
SUMMARY:School closed
DESCRIPTION:
URL:http://www.letterkennyetns.ie/event/school-closed-3/
END:VEVENT
END:VCALENDAR