BEGIN:VCALENDAR
VERSION:2.0
PRODID:-//Letterkenny Educate Together - ECPv4.1.4//NONSGML v1.0//EN
CALSCALE:GREGORIAN
METHOD:PUBLISH
X-WR-CALNAME:Letterkenny Educate Together
X-ORIGINAL-URL:http://www.letterkennyetns.ie
X-WR-CALDESC:Events for Letterkenny Educate Together
BEGIN:VEVENT
DTSTART;TZID=Europe/London:20230105T090000
DTEND;TZID=Europe/London:20230105T144000
DTSTAMP:20260423T161908
CREATED:20220618T220434
LAST-MODIFIED:20220618T220434
UID:5272-1672909200-1672929600@www.letterkennyetns.ie
SUMMARY:Schools Reopens
DESCRIPTION:Schools Reopen - Thursday 5th January 2023
URL:http://www.letterkennyetns.ie/event/schools-reopens/
END:VEVENT
END:VCALENDAR