BEGIN:VCALENDAR
VERSION:2.0
PRODID:-//Letterkenny Educate Together - ECPv4.1.4//NONSGML v1.0//EN
CALSCALE:GREGORIAN
METHOD:PUBLISH
X-WR-CALNAME:Letterkenny Educate Together
X-ORIGINAL-URL:http://www.letterkennyetns.ie
X-WR-CALDESC:Events for Letterkenny Educate Together
BEGIN:VEVENT
DTSTART;TZID=Europe/London:20250203T080000
DTEND;TZID=Europe/London:20250203T170000
DTSTAMP:20260422T184842
CREATED:20240829T211220
LAST-MODIFIED:20240829T212102
UID:5438-1738569600-1738602000@www.letterkennyetns.ie
SUMMARY:Public holiday - School closed
DESCRIPTION:School Closed today. Happy St. Brigid's Day
URL:http://www.letterkennyetns.ie/event/public-holiday-school-closed/
END:VEVENT
END:VCALENDAR