BEGIN:VCALENDAR
VERSION:2.0
PRODID:-//Letterkenny Educate Together - ECPv4.1.4//NONSGML v1.0//EN
CALSCALE:GREGORIAN
METHOD:PUBLISH
X-WR-CALNAME:Letterkenny Educate Together
X-ORIGINAL-URL:http://www.letterkennyetns.ie
X-WR-CALDESC:Events for Letterkenny Educate Together
BEGIN:VEVENT
DTSTART;TZID=Europe/London:20250410T090000
DTEND;TZID=Europe/London:20250410T144000
DTSTAMP:20260422T185844
CREATED:20250206T220519
LAST-MODIFIED:20250206T220519
UID:5452-1744275600-1744296000@www.letterkennyetns.ie
SUMMARY:Last day of term (full day)
DESCRIPTION:School will close 2.40pm for the Spring Holidays
URL:http://www.letterkennyetns.ie/event/last-day-term/
END:VEVENT
END:VCALENDAR