BEGIN:VCALENDAR
VERSION:2.0
PRODID:-//Letterkenny Educate Together - ECPv4.1.4//NONSGML v1.0//EN
CALSCALE:GREGORIAN
METHOD:PUBLISH
X-WR-CALNAME:Letterkenny Educate Together
X-ORIGINAL-URL:http://www.letterkennyetns.ie
X-WR-CALDESC:Events for Letterkenny Educate Together
BEGIN:VEVENT
DTSTART;TZID=Europe/London:20250602T080000
DTEND;TZID=Europe/London:20250602T170000
DTSTAMP:20260425T024021
CREATED:20240829T211849
LAST-MODIFIED:20240829T211849
UID:5443-1748851200-1748883600@www.letterkennyetns.ie
SUMMARY:Public Holiday - School closed today
DESCRIPTION:School closed
URL:http://www.letterkennyetns.ie/event/public-holiday-school-closed-today/
END:VEVENT
END:VCALENDAR